BEGIN:VCALENDAR
VERSION:2.0
PRODID:-//GFWC Junior Woman's Club of Lakeland - ECPv6.15.20//NONSGML v1.0//EN
CALSCALE:GREGORIAN
METHOD:PUBLISH
X-ORIGINAL-URL:https://gfwclakelandjuniors.org
X-WR-CALDESC:Events for GFWC Junior Woman's Club of Lakeland
REFRESH-INTERVAL;VALUE=DURATION:PT1H
X-Robots-Tag:noindex
X-PUBLISHED-TTL:PT1H
BEGIN:VTIMEZONE
TZID:UTC
BEGIN:STANDARD
TZOFFSETFROM:+0000
TZOFFSETTO:+0000
TZNAME:UTC
DTSTART:20220101T000000
END:STANDARD
END:VTIMEZONE
BEGIN:VEVENT
DTSTART;TZID=UTC:20231111T080000
DTEND;TZID=UTC:20231111T140000
DTSTAMP:20260419T130345
CREATED:20220705T033636Z
LAST-MODIFIED:20230817T012625Z
UID:1552-1699689600-1699711200@gfwclakelandjuniors.org
SUMMARY:Live Green Lakeland EcoFest
DESCRIPTION:
URL:https://gfwclakelandjuniors.org/event/live-green-lakeland-ecofest/
LOCATION:Munn Park\, 210 E Main St\, Lakeland\, FL
ATTACH;FMTTYPE=image/png:https://gfwclakelandjuniors.org/wp-content/uploads/2022/07/Copy-of-Copy-of-Live-Lakeland.png
END:VEVENT
END:VCALENDAR