BEGIN:VCALENDAR
VERSION:2.0
PRODID:-//GFWC Junior Woman's Club of Lakeland - ECPv6.15.20//NONSGML v1.0//EN
CALSCALE:GREGORIAN
METHOD:PUBLISH
X-ORIGINAL-URL:https://gfwclakelandjuniors.org
X-WR-CALDESC:Events for GFWC Junior Woman's Club of Lakeland
REFRESH-INTERVAL;VALUE=DURATION:PT1H
X-Robots-Tag:noindex
X-PUBLISHED-TTL:PT1H
BEGIN:VTIMEZONE
TZID:UTC
BEGIN:STANDARD
TZOFFSETFROM:+0000
TZOFFSETTO:+0000
TZNAME:UTC
DTSTART:20220101T000000
END:STANDARD
END:VTIMEZONE
BEGIN:VEVENT
DTSTART;TZID=UTC:20231117T170000
DTEND;TZID=UTC:20231117T190000
DTSTAMP:20260419T142134
CREATED:20231017T222547Z
LAST-MODIFIED:20231017T222547Z
UID:1831-1700240400-1700247600@gfwclakelandjuniors.org
SUMMARY:Bonnet Springs Happy Hour Social
DESCRIPTION:
URL:https://gfwclakelandjuniors.org/event/bonnet-springs-happy-hour-social/
LOCATION:Bonnet Springs Park\, 400 Bonnet Springs Boulevard\, Lakeland\, FL\, 33815\, United States
ATTACH;FMTTYPE=image/png:https://gfwclakelandjuniors.org/wp-content/uploads/2023/10/bsp.png
END:VEVENT
END:VCALENDAR