BEGIN:VCALENDAR
VERSION:2.0
PRODID:-//GFWC Junior Woman's Club of Lakeland - ECPv6.15.20//NONSGML v1.0//EN
CALSCALE:GREGORIAN
METHOD:PUBLISH
X-ORIGINAL-URL:https://gfwclakelandjuniors.org
X-WR-CALDESC:Events for GFWC Junior Woman's Club of Lakeland
REFRESH-INTERVAL;VALUE=DURATION:PT1H
X-Robots-Tag:noindex
X-PUBLISHED-TTL:PT1H
BEGIN:VTIMEZONE
TZID:UTC
BEGIN:STANDARD
TZOFFSETFROM:+0000
TZOFFSETTO:+0000
TZNAME:UTC
DTSTART:20220101T000000
END:STANDARD
END:VTIMEZONE
BEGIN:VEVENT
DTSTART;TZID=UTC:20231203T130000
DTEND;TZID=UTC:20231203T160000
DTSTAMP:20260419T142102
CREATED:20210714T013335Z
LAST-MODIFIED:20230818T224831Z
UID:1229-1701608400-1701619200@gfwclakelandjuniors.org
SUMMARY:Out of the Darkness Walk
DESCRIPTION:Our community has always been the heart of the Out of the Darkness Walks. The global pandemic has impacted the emotional and economic well-being of many individuals and families\, and left many of us to manage a variety of emotions\, including feelings of uncertainty. We also know increases in suicide are not a foregone conclusion if we act now to mitigate risk and support the mental health of our friends\, families\, and neighbors. But we need your help. Every dollar you raise through the Out of the Darkness Walks allows AFSP to invest in life-saving research\, education\, advocacy\, and support for those impacted by suicide. \nIt’s more important than ever for us to stay connected. Though there are many unknowns\, there are a few things we know for sure: \n\nYou belong to a strong community united in an effort to fight suicide while showing up for yourself\, recognizing and honoring those you love\, raising awareness\, educating communities\, supporting one another\, and sharing hope.\nWe remain dedicated to providing you with opportunities to connect\, heal\, share stories\, create impact\, and show you that you are not alone.\nMental Health and suicide prevention are more important than ever\, and we’re confident that with your help we can reach more people than ever before.\n\nRegister Today and help save lives and bring hope to those affected by suicide.
URL:https://gfwclakelandjuniors.org/event/out-of-the-darkness-walk/
LOCATION:Lake Parker Park\, 910 Granada St.\, Lakeland\, FL\, 33805\, United States
ATTACH;FMTTYPE=image/png:https://gfwclakelandjuniors.org/wp-content/uploads/2021/07/Untitled-design-4.png
END:VEVENT
END:VCALENDAR