BEGIN:VCALENDAR
VERSION:2.0
PRODID:-//GFWC Junior Woman's Club of Lakeland - ECPv6.15.20//NONSGML v1.0//EN
CALSCALE:GREGORIAN
METHOD:PUBLISH
X-WR-CALNAME:GFWC Junior Woman's Club of Lakeland
X-ORIGINAL-URL:https://gfwclakelandjuniors.org
X-WR-CALDESC:Events for GFWC Junior Woman's Club of Lakeland
REFRESH-INTERVAL;VALUE=DURATION:PT1H
X-Robots-Tag:noindex
X-PUBLISHED-TTL:PT1H
BEGIN:VTIMEZONE
TZID:UTC
BEGIN:STANDARD
TZOFFSETFROM:+0000
TZOFFSETTO:+0000
TZNAME:UTC
DTSTART:20230101T000000
END:STANDARD
END:VTIMEZONE
BEGIN:VEVENT
DTSTART;VALUE=DATE:20240412
DTEND;VALUE=DATE:20240416
DTSTAMP:20260423T142835
CREATED:20211107T015149Z
LAST-MODIFIED:20240218T182818Z
UID:1364-1712880000-1713225599@gfwclakelandjuniors.org
SUMMARY:GFWC FL Convention
DESCRIPTION:
URL:https://gfwclakelandjuniors.org/event/gfwc-fl-convention/
LOCATION:Rosen Plaza\, 9700 International Dr\, Orlando\, FL\, 32819\, United States
ATTACH;FMTTYPE=image/jpeg:https://gfwclakelandjuniors.org/wp-content/uploads/2021/07/ROSEN.jpg
END:VEVENT
END:VCALENDAR