BEGIN:VCALENDAR
VERSION:2.0
PRODID:-//GFWC Junior Woman's Club of Lakeland - ECPv6.15.20//NONSGML v1.0//EN
CALSCALE:GREGORIAN
METHOD:PUBLISH
X-ORIGINAL-URL:https://gfwclakelandjuniors.org
X-WR-CALDESC:Events for GFWC Junior Woman's Club of Lakeland
REFRESH-INTERVAL;VALUE=DURATION:PT1H
X-Robots-Tag:noindex
X-PUBLISHED-TTL:PT1H
BEGIN:VTIMEZONE
TZID:UTC
BEGIN:STANDARD
TZOFFSETFROM:+0000
TZOFFSETTO:+0000
TZNAME:UTC
DTSTART:20230101T000000
END:STANDARD
END:VTIMEZONE
BEGIN:VEVENT
DTSTART;VALUE=DATE:20240927
DTEND;VALUE=DATE:20240930
DTSTAMP:20260424T023219
CREATED:20240817T222305Z
LAST-MODIFIED:20240817T222305Z
UID:1994-1727395200-1727654399@gfwclakelandjuniors.org
SUMMARY:GFWC Florida Fall Board
DESCRIPTION:  \nTo register: https://www.eventbrite.com/e/gfwc-fl-fall-board-of-directors-meeting-2024-registration-986094714837?aff=oddtdtcreator
URL:https://gfwclakelandjuniors.org/event/gfwc-florida-fall-board-2/
LOCATION:Rosen Plaza\, 9700 International Dr\, Orlando\, FL\, 32819\, United States
ATTACH;FMTTYPE=image/jpeg:https://gfwclakelandjuniors.org/wp-content/uploads/2021/07/ROSEN.jpg
END:VEVENT
END:VCALENDAR