BEGIN:VCALENDAR
VERSION:2.0
PRODID:-//GFWC Junior Woman's Club of Lakeland - ECPv6.15.20//NONSGML v1.0//EN
CALSCALE:GREGORIAN
METHOD:PUBLISH
X-ORIGINAL-URL:https://gfwclakelandjuniors.org
X-WR-CALDESC:Events for GFWC Junior Woman's Club of Lakeland
REFRESH-INTERVAL;VALUE=DURATION:PT1H
X-Robots-Tag:noindex
X-PUBLISHED-TTL:PT1H
BEGIN:VTIMEZONE
TZID:UTC
BEGIN:STANDARD
TZOFFSETFROM:+0000
TZOFFSETTO:+0000
TZNAME:UTC
DTSTART:20230101T000000
END:STANDARD
END:VTIMEZONE
BEGIN:VEVENT
DTSTART;TZID=UTC:20240315T180000
DTEND;TZID=UTC:20240315T213000
DTSTAMP:20260423T160157
CREATED:20230522T021224Z
LAST-MODIFIED:20240218T182551Z
UID:1731-1710525600-1710538200@gfwclakelandjuniors.org
SUMMARY:Polk County Relay for Life
DESCRIPTION:Join our team or donate: https://secure.acsevents.org/site/TR/RelayForLife/RFLCY24SER?team_id=2705047&pg=team&fr_id=107411
URL:https://gfwclakelandjuniors.org/event/polk-county-relay-for-life/
LOCATION:Central Park\, 469 W Central Ave.\, Winter Haven\, FL\, United States
ATTACH;FMTTYPE=image/jpeg:https://gfwclakelandjuniors.org/wp-content/uploads/2023/05/Relay-1.jpg
END:VEVENT
BEGIN:VEVENT
DTSTART;TZID=UTC:20240328T170000
DTEND;TZID=UTC:20240328T190000
DTSTAMP:20260423T160157
CREATED:20240321T011837Z
LAST-MODIFIED:20240321T011855Z
UID:1935-1711645200-1711652400@gfwclakelandjuniors.org
SUMMARY:Spaghetti Dinner Fundraiser
DESCRIPTION:You’re invited! Our im-pasta-bly delicious homemade spaghetti dinner tickets are on sale now. For just $10\, you get spaghetti (meatballs optional)\, bread\, salad\, and cookie. Take the night off and let us do the cooking. \nOur annual spaghetti dinner fundraiser is a joint event with the United Women’s Club of Lakeland. Proceeds will go to support Talbot House.
URL:https://gfwclakelandjuniors.org/event/spaghetti-dinner-fundraiser-2/
LOCATION:Clubhouse\, 1515 Williamsburg Square\, Lakeland\, fl
ATTACH;FMTTYPE=image/png:https://gfwclakelandjuniors.org/wp-content/uploads/2024/03/Drive-thru.png
END:VEVENT
END:VCALENDAR